BEGIN:VCALENDAR
VERSION:2.0
PRODID:PHP
METHOD:PUBLISH
BEGIN:VTIMEZONE
TZID:America/New_York
BEGIN:DAYLIGHT
TZOFFSETFROM:-0500
TZOFFSETTO:-0400
TZNAME:EDT
DTSTART:19700308T020000
RRULE:FREQ=YEARLY;BYMONTH=3;BYDAY=2SU
END:DAYLIGHT
BEGIN:STANDARD
TZOFFSETFROM:-0400
TZOFFSETTO:-0500
TZNAME:EST
DTSTART:19701101T020000
RRULE:FREQ=YEARLY;BYMONTH=11;BYDAY=1SU
END:STANDARD
END:VTIMEZONE
BEGIN:VEVENT
DTSTART;TZID=America/New_York:20260426T180000
DTEND;TZID=America/New_York:20260426T200000
SUMMARY:Render Me Softly presents: "Soft Becomings" & "The Body as a Site for Tenderness"
LOCATION:Render Me Softly presents: "Soft Becomings" & "The Body as a Site for Tenderness", 1615 E 25th St Cleveland, Ohio 44114
UID:2026-04-render-me-softly-presents-soft-becomings-the-body-as-a-site-for-tenderness@gcbl.org
DTSTAMP:20260422T105902
END:VEVENT
END:VCALENDAR
